BEGIN:VCALENDAR
VERSION:2.0
PRODID:-//Virada Zen - ECPv6.15.11//NONSGML v1.0//EN
CALSCALE:GREGORIAN
METHOD:PUBLISH
X-WR-CALNAME:Virada Zen
X-ORIGINAL-URL:https://viradazen.com.br
X-WR-CALDESC:Eventos para Virada Zen
REFRESH-INTERVAL;VALUE=DURATION:PT1H
X-Robots-Tag:noindex
X-PUBLISHED-TTL:PT1H
BEGIN:VTIMEZONE
TZID:America/Sao_Paulo
BEGIN:STANDARD
TZOFFSETFROM:-0300
TZOFFSETTO:-0300
TZNAME:-03
DTSTART:20240101T000000
END:STANDARD
END:VTIMEZONE
BEGIN:VEVENT
DTSTART;TZID=America/Sao_Paulo:20251025T140000
DTEND;TZID=America/Sao_Paulo:20251025T153000
DTSTAMP:20260421T125239
CREATED:20251010T193044Z
LAST-MODIFIED:20251017T213613Z
UID:10001159-1761400800-1761406200@viradazen.com.br
SUMMARY:Corpo como um portal das Forças - ONLINE
DESCRIPTION:Uma jornada para reconhecer\, vivenciar e fortalecer as Forças de Caráter a partir do corpo. As Forças de caráter são responsáveis pelo florescer humano que constroem os relacionamentos positivos\, as emoções\, o engajamento social e o bem-estar físico e mental. As Forças de caráter não são apenas um traço da mente \, elas estão presentes no corpo através dos movimentos\, da respiração\, da forma do corpo.\nAqui vamos trilhar uma jornada de descoberta das Forças de Caráter com uma ferramenta e permitir que sejam vivenciadas fisicamente através do Breathwork (respiração)\, mindfulness (mente)\nPrática Somática (corpo).\nQuando o corpo participa o autoconhecimento se torna vivo \nLink para participação: https://meet.google.com/rac-svnp-ggp
URL:https://viradazen.com.br/eventos/corpo-como-um-portal-das-forcas-online/2025-10-25/2/
CATEGORIES:Vivências
ATTACH;FMTTYPE=image/jpeg:https://viradazen.com.br/wp-content/uploads/2025/10/Untitled-design-5.jpg
END:VEVENT
END:VCALENDAR