BEGIN:VCALENDAR
VERSION:2.0
PRODID:-//Virada Zen - ECPv6.15.11//NONSGML v1.0//EN
CALSCALE:GREGORIAN
METHOD:PUBLISH
X-WR-CALNAME:Virada Zen
X-ORIGINAL-URL:https://viradazen.com.br
X-WR-CALDESC:Eventos para Virada Zen
REFRESH-INTERVAL;VALUE=DURATION:PT1H
X-Robots-Tag:noindex
X-PUBLISHED-TTL:PT1H
BEGIN:VTIMEZONE
TZID:America/Sao_Paulo
BEGIN:STANDARD
TZOFFSETFROM:-0300
TZOFFSETTO:-0300
TZNAME:-03
DTSTART:20240101T000000
END:STANDARD
END:VTIMEZONE
BEGIN:VEVENT
DTSTART;TZID=America/Sao_Paulo:20251025T120000
DTEND;TZID=America/Sao_Paulo:20251025T130000
DTSTAMP:20260419T110224
CREATED:20251009T213454Z
LAST-MODIFIED:20251026T150927Z
UID:10000841-1761393600-1761397200@viradazen.com.br
SUMMARY:Oficina “Sementes do Ser” – A Arte de Tecer o Feminino – ONLINE
DESCRIPTION:Um Encontro com as Mãos\, o Coração e a Criança que Mora em Você. \nEm um mundo que pede pressa e produtividade\, convidamos você a fazer uma pausa sagrada. Uma pausa para respirar\, criar e se reconhecer no simples ato de fazer com as mãos. \nEsta oficina é um convite para uma jornada sensível de volta para casa. Uma experiência online onde a arte e o artesanato são fios condutores para reconectar com a essência do seu sagrado feminino e liberar a voz pura e livre da sua criança interior. \nComo será essa jornada? \nAtravés de um trabalho manual intuitivo e afetivo (como [mencione brevemente a técnica\, ex.: mandalas de fios\, pintura intuitiva\, colagem\, amarrações])\, vamos criar juntas um “Talismã do Afeto” – uma peça única que nasce não da perfeição\, mas da expressão genuína do seu ser. \nEste não é um curso de técnicas complexas. É um espaço para: \nDar as Mãos à Sua Criança Interior: Permitir que ela escolha cores\, brinque com texturas e se expresse sem julgamentos. É o resgate do prazer pelo simples ato de criar. \nConversar com o Sagrado Feminino: Cada ponto\, cada pincelada\, é um fio que tece a intuição\, a sensibilidade e a força receptiva que habita em você. É um ato meditativo de autoacolhimento. \nSilenciar a Mente através do Corpo: Ao focar no movimento suave das mãos\, a mente agitada encontra repouso. Entramos em um estado de “fluxo”\, onde o tempo para e só existe o presente. \nCriar um Símbolo do Seu Amor-Próprio: O artesanato final será um lembrete tangível dessa jornada\, um objeto carregado com a energia do seu cuidado e da sua permissão para ser. \nBenefícios desta Experiência: \n🌸 Conexão profunda com sua criança interior e sua criatividade inata. \n🌸 Ativação do sagrado feminino: intuição\, acolhimento e fluxo. \n🌸 Prática de mindfulness através do trabalho manual. \n🌸 Alívio do estresse e ansiedade\, entrando em um estado de relaxamento profundo. \n🌸 Fortalecimento da autoestima e da permissão para se expressar livremente. \n🌸 Criação de um objeto afetivo que guarda a memória desse renascimento. \nPara quem é este encontro? \nPara TODAS as mulheres que desejam se lembrar de quem são\, além dos papéis de mãe\, profissional\, parceira ou cuidadora. Não é necessário “saber” arte. Basta ter o desejo de se presentear com um momento de puro afeto por si mesma. \nModo Online: Um Círculo Sagrado Virtual \nNos conectaremos virtualmente para criar um círculo seguro e acolhedor. No conforto do seu lar\, você poderá mergulhar nessa experiência\, com a facilitação amorosa para guiar cada passo de forma intuitiva e significativa. \nFacilitação: \nDayâne Samarah\, com o coração dedicado a a terapias energéticas e a arteterapia. Guio este trabalho com a missão de usar a arte como ponte para o autoconhecimento e a cura\, honrando a história única de cada mulher. \nInscreva-se agora e reserve seu lugar neste círCulo de criação e afeto.\nPREENCHA O FORMULÁRIO E PARTICIPE\, GARANTA SEU INGRESSO  https://forms.gle/6SjooYQnqrH1jWD2A \nhttps://meet.google.com/aoi-ucnn-eyg \nDeixe suas mãos contarem a história que sua alma já sabe. Venha semear o seu próprio renascimento na Virada Zen. \nDica: Na hora da oficina\, crie uma atmosfera especial! Peça para as participantes prepararem seu espaço com uma xícara de chá\, um incenso e os materiais que serão usados\, transformando o ambiente em um verdadeiro templo do autocuidado.
URL:https://viradazen.com.br/eventos/oficina-sementes-do-ser-a-arte-de-tecer-o-feminino/2025-10-25/
LOCATION:Online\, -\, -
CATEGORIES:Online
ATTACH;FMTTYPE=image/jpeg:https://viradazen.com.br/wp-content/uploads/2025/09/Atelier-Macadabra-on-Instagram_-Yesterday-was-FABULOUS✨I-got-to-teach-the-basics-to-eight-lovely-women-and-they-all-did-an-awesome-job-Really-loved-sharing-my-passion-for….jpg
GEO:-10.9279107;-37.0698351
X-APPLE-STRUCTURED-LOCATION;VALUE=URI;X-ADDRESS=Online - -;X-APPLE-RADIUS=500;X-TITLE=-:geo:-37.0698351,-10.9279107
END:VEVENT
END:VCALENDAR