BEGIN:VCALENDAR
VERSION:2.0
PRODID:-//Virada Zen - ECPv6.15.11//NONSGML v1.0//EN
CALSCALE:GREGORIAN
METHOD:PUBLISH
X-WR-CALNAME:Virada Zen
X-ORIGINAL-URL:https://viradazen.com.br
X-WR-CALDESC:Eventos para Virada Zen
REFRESH-INTERVAL;VALUE=DURATION:PT1H
X-Robots-Tag:noindex
X-PUBLISHED-TTL:PT1H
BEGIN:VTIMEZONE
TZID:America/Sao_Paulo
BEGIN:STANDARD
TZOFFSETFROM:-0300
TZOFFSETTO:-0300
TZNAME:-03
DTSTART:20240101T000000
END:STANDARD
END:VTIMEZONE
BEGIN:VEVENT
DTSTART;TZID=America/Sao_Paulo:20251026T150000
DTEND;TZID=America/Sao_Paulo:20251026T190000
DTSTAMP:20260419T114559
CREATED:20251012T230013Z
LAST-MODIFIED:20251013T181105Z
UID:21710-1761490800-1761505200@viradazen.com.br
SUMMARY:Posicionamento Sistêmico - ONLINE
DESCRIPTION:Quantas vezes você se sentiu sem rumo? Como se nem fizesse parte de sua família?\nVem percebendo várias situações de repetição de padrão: problemas de saúde\, dificuldades com dinheiro\, sem entender o porquê disso tudo acontecer…\nDeseja se sentir amada\, mas só atrai o mesmo tipo de relacionamento tóxico?\nQuase não sabe nada de seus antepassados e se ressente por isso? \nVenha participar desse exercício de POSICIONAMENTO SISTÊMICO\, que reúne a CONSTELAÇÃO GENEALÓGICA\, HO’OPONOPONO E THETAHEALING\, e receber do seu Sistema Familiar\, a Força interna\, que te impulsionará para fazer seu futuro diferente à partir de agora! \nLEMBRE de deixar à mão papel\, caneta\, lápis de cor ou giz de cera\nUma almofada ou travesseiro e uma garrafa de vidro com água\nE fotos de seus ancestrais se tiver. \nEm caso de dúvidas mande uma mensagem de texto para 11 954451110
URL:https://viradazen.com.br/eventos/posicionamento-sistemico-online/
CATEGORIES:Online,Vivências
ATTACH;FMTTYPE=image/jpeg:https://viradazen.com.br/wp-content/uploads/2025/10/Screenshot_20250606-110447_WhatsAppBusiness.jpg
END:VEVENT
END:VCALENDAR