BEGIN:VCALENDAR
VERSION:2.0
PRODID:-//Virada Zen - ECPv6.15.11//NONSGML v1.0//EN
CALSCALE:GREGORIAN
METHOD:PUBLISH
X-WR-CALNAME:Virada Zen
X-ORIGINAL-URL:https://viradazen.com.br
X-WR-CALDESC:Eventos para Virada Zen
REFRESH-INTERVAL;VALUE=DURATION:PT1H
X-Robots-Tag:noindex
X-PUBLISHED-TTL:PT1H
BEGIN:VTIMEZONE
TZID:America/Sao_Paulo
BEGIN:STANDARD
TZOFFSETFROM:-0300
TZOFFSETTO:-0300
TZNAME:-03
DTSTART:20240101T000000
END:STANDARD
END:VTIMEZONE
BEGIN:VEVENT
DTSTART;TZID=America/Sao_Paulo:20251024T070000
DTEND;TZID=America/Sao_Paulo:20251024T093000
DTSTAMP:20260421T004720
CREATED:20251008T005750Z
LAST-MODIFIED:20251008T155532Z
UID:16166-1761289200-1761298200@viradazen.com.br
SUMMARY:Wake Festa matinal
DESCRIPTION:Edição especial e comemorativa de 10 anos\nParte da programação da Virada Zen 2025 \n📅 Data: Sexta-feira\, 24 de outubro de 2025\n🕑 Horário: 7h – 9h30\n📍 Local: Centro Cultural São Paulo – CCSP – Rua Vergueiro\, 1000 – Liberdade\n🎟️ Entrada gratuita \nSobre a WAKE\nCriada em 2015 por Lourenço Bustani\, fundador da Mandalah\, a WAKE nasceu como um experimento social para promover novas formas de viver a vida na cidade.\nMais do que acordar cedo\, a proposta é reinventar a rotina urbana\, começar o dia com mais harmonia e celebrar a vida em comunidade. Música\, dança\, yoga e gastronomia saudável se encontram em uma experiência que mistura autocuidado\, diversidade e alegria.\nApós 40 edições em mais de 15 capitais do Brasil e México\, a WAKE encerrou suas atividades em 2020 devido à pandemia\, e agora re-emerge em uma edição única comemorativa de 10 anos.\nA festa integra a programação da Virada Zen 2025\, o maior movimento de mobilização colaborativa em prol da sustentabilidade e do bem-estar no Brasil. \nRetire seu ingresso aqui (o link vai abrir em uma nova aba): \nhttps://www.ingresse.com/wake-festa-matinal24-10/ \nO que esperar\n7h – Abertura\n7h15 – Yoga\nDespertar do corpo com prática de yoga (traga seu mat)\n8h15 – Pista\nMúsica\, dança\, performances artísticas\, terapias alternativas e gastronomia saudável\n9h15 – Contemplação\nEncerramento meditativo\n9h30 – De volta à vida\, mas com outra perspectiva! \nComo participar\nA WAKE é uma festa colaborativa e beneficente que se viabiliza a partir de doação desinteressada de todos.\nA entrada é gratuita e inclui:\nInclui:\nPrática de yoga\nPista de dança\nCafé da manhã saudável\nMassagem\nPintura facial\nCorte de cabelo\nMeditação\nE outras surpresas ✨ \nO participante pode chegar às 7h para participar da aula de yoga ou chegar às 8h para desfrutar apenas da festa. \nClassificação: Todas as idades e pontos de vista\nMobilidade: Chegue de bike\, metrô (Vergueiro) ou ônibus 🚲🚇🚌 \nUm movimento multicultural\nA WAKE é um espaço sem muros invisíveis\, onde status\, raça\, crenças ou religião não separam ninguém.\nUm respiro de equilíbrio em meio ao caos urbano.\nUm movimento em que todos podem se expressar livremente\, catalisar criatividade e gerar impacto positivo.\n🎭 Extrapolamos as bolhas e celebramos a diversidade\, sempre!
URL:https://viradazen.com.br/eventos/wake-festa-matinal/
LOCATION:CCSP – ÁREA DE CONVIVÊNCIA\, Rua Vergueiro\, 1000 - Liberdade\, São Paulo\, São Paulo\, 01504-001
CATEGORIES:Meditação,Performance,Show,Vivências,Yoga
ATTACH;FMTTYPE=image/jpeg:https://viradazen.com.br/wp-content/uploads/2025/10/WhatsApp-Image-2025-10-01-at-12.10.33.jpeg
GEO:-23.5708794;-46.6402144
X-APPLE-STRUCTURED-LOCATION;VALUE=URI;X-ADDRESS=CCSP – ÁREA DE CONVIVÊNCIA Rua Vergueiro 1000 - Liberdade São Paulo São Paulo 01504-001;X-APPLE-RADIUS=500;X-TITLE=Rua Vergueiro\, 1000 - Liberdade:geo:-46.6402144,-23.5708794
END:VEVENT
END:VCALENDAR